BEGIN:VCALENDAR
VERSION:2.0
PRODID:-//BLVD Bakersfield - ECPv6.15.20//NONSGML v1.0//EN
CALSCALE:GREGORIAN
METHOD:PUBLISH
X-ORIGINAL-URL:https://www.blvdbakersfield.com
X-WR-CALDESC:Events for BLVD Bakersfield
REFRESH-INTERVAL;VALUE=DURATION:PT1H
X-Robots-Tag:noindex
X-PUBLISHED-TTL:PT1H
BEGIN:VTIMEZONE
TZID:America/Los_Angeles
BEGIN:DAYLIGHT
TZOFFSETFROM:-0800
TZOFFSETTO:-0700
TZNAME:PDT
DTSTART:20250309T100000
END:DAYLIGHT
BEGIN:STANDARD
TZOFFSETFROM:-0700
TZOFFSETTO:-0800
TZNAME:PST
DTSTART:20251102T090000
END:STANDARD
BEGIN:DAYLIGHT
TZOFFSETFROM:-0800
TZOFFSETTO:-0700
TZNAME:PDT
DTSTART:20260308T100000
END:DAYLIGHT
BEGIN:STANDARD
TZOFFSETFROM:-0700
TZOFFSETTO:-0800
TZNAME:PST
DTSTART:20261101T090000
END:STANDARD
BEGIN:DAYLIGHT
TZOFFSETFROM:-0800
TZOFFSETTO:-0700
TZNAME:PDT
DTSTART:20270314T100000
END:DAYLIGHT
BEGIN:STANDARD
TZOFFSETFROM:-0700
TZOFFSETTO:-0800
TZNAME:PST
DTSTART:20271107T090000
END:STANDARD
END:VTIMEZONE
BEGIN:VEVENT
DTSTART;VALUE=DATE:20260125
DTEND;VALUE=DATE:20260126
DTSTAMP:20260422T011657
CREATED:20250919T083427Z
LAST-MODIFIED:20260123T082252Z
UID:4914-1769299200-1769385599@www.blvdbakersfield.com
SUMMARY:Football Specials
DESCRIPTION:FOOTBALL GAME TIME SPECIALS: \n– Nachos & 16oz Beer $15 \n– Med Wings & Margarita $22 \n– Classic Burger & Fries W/ 16oz Beer $15 \n– Pick 2 Shareables From A Selected Menu For Only $20 \nUpgraded Drink Options Available \n*SPECIALS VALID DURING LIVE NFL FOOTBALL GAMES ONLY.
URL:https://www.blvdbakersfield.com/event/football-game-time-specials/
ATTACH;FMTTYPE=image/webp:https://www.blvdbakersfield.com/wp-content/uploads/2025/09/BLVD-Bakersfield-Football-Special-Food-2025.webp
END:VEVENT
END:VCALENDAR