BEGIN:VCALENDAR
VERSION:2.0
PRODID:-//BLVD Bakersfield - ECPv6.15.20//NONSGML v1.0//EN
CALSCALE:GREGORIAN
METHOD:PUBLISH
X-WR-CALNAME:BLVD Bakersfield
X-ORIGINAL-URL:https://www.blvdbakersfield.com
X-WR-CALDESC:Events for BLVD Bakersfield
REFRESH-INTERVAL;VALUE=DURATION:PT1H
X-Robots-Tag:noindex
X-PUBLISHED-TTL:PT1H
BEGIN:VTIMEZONE
TZID:America/Los_Angeles
BEGIN:DAYLIGHT
TZOFFSETFROM:-0800
TZOFFSETTO:-0700
TZNAME:PDT
DTSTART:20240310T100000
END:DAYLIGHT
BEGIN:STANDARD
TZOFFSETFROM:-0700
TZOFFSETTO:-0800
TZNAME:PST
DTSTART:20241103T090000
END:STANDARD
BEGIN:DAYLIGHT
TZOFFSETFROM:-0800
TZOFFSETTO:-0700
TZNAME:PDT
DTSTART:20250309T100000
END:DAYLIGHT
BEGIN:STANDARD
TZOFFSETFROM:-0700
TZOFFSETTO:-0800
TZNAME:PST
DTSTART:20251102T090000
END:STANDARD
BEGIN:DAYLIGHT
TZOFFSETFROM:-0800
TZOFFSETTO:-0700
TZNAME:PDT
DTSTART:20260308T100000
END:DAYLIGHT
BEGIN:STANDARD
TZOFFSETFROM:-0700
TZOFFSETTO:-0800
TZNAME:PST
DTSTART:20261101T090000
END:STANDARD
END:VTIMEZONE
BEGIN:VEVENT
DTSTART;VALUE=DATE:20251224
DTEND;VALUE=DATE:20251225
DTSTAMP:20260420T014159
CREATED:20251224T053236Z
LAST-MODIFIED:20251224T053419Z
UID:5013-1766534400-1766620799@www.blvdbakersfield.com
SUMMARY:Christmas Eve Hours
DESCRIPTION:Christmas Eve\nOpen from 11am – 10pm
URL:https://www.blvdbakersfield.com/event/christmas-eve-hours/
ATTACH;FMTTYPE=image/webp:https://www.blvdbakersfield.com/wp-content/uploads/2025/12/BLVD-Holiday-hours-2025.webp
END:VEVENT
BEGIN:VEVENT
DTSTART;VALUE=DATE:20251221
DTEND;VALUE=DATE:20251223
DTSTAMP:20260420T014200
CREATED:20251009T005948Z
LAST-MODIFIED:20251222T065507Z
UID:4943-1766275200-1766447999@www.blvdbakersfield.com
SUMMARY:Football Specials
DESCRIPTION:FOOTBALL GAME TIME SPECIALS: \n– Nachos & 16oz Beer $15 \n– Med Wings & Margarita $22 \n– Classic Burger & Fries W/ 16oz Beer $15 \n– Pick 2 Shareables From A Selected Menu For Only $20 \nUpgraded Drink Options Available \n*SPECIALS VALID DURING LIVE NFL FOOTBALL GAMES ONLY.
URL:https://www.blvdbakersfield.com/event/football-specials-7/
ATTACH;FMTTYPE=image/webp:https://www.blvdbakersfield.com/wp-content/uploads/2025/09/BLVD-Bakersfield-Football-Special-Food-2025.webp
END:VEVENT
BEGIN:VEVENT
DTSTART;VALUE=DATE:20251218
DTEND;VALUE=DATE:20251219
DTSTAMP:20260420T014200
CREATED:20250919T084053Z
LAST-MODIFIED:20251202T082057Z
UID:4920-1766016000-1766102399@www.blvdbakersfield.com
SUMMARY:Football Specials
DESCRIPTION:FOOTBALL GAME TIME SPECIALS: \n– Nachos & 16oz Beer $15 \n– Med Wings & Margarita $22 \n– Classic Burger & Fries W/ 16oz Beer $15 \n– Pick 2 Shareables From A Selected Menu For Only $20 \nUpgraded Drink Options Available \n*SPECIALS VALID DURING LIVE NFL FOOTBALL GAMES ONLY.
URL:https://www.blvdbakersfield.com/event/football-specials-2/
ATTACH;FMTTYPE=image/webp:https://www.blvdbakersfield.com/wp-content/uploads/2025/09/BLVD-Bakersfield-Football-Special-Food-2025.webp
END:VEVENT
BEGIN:VEVENT
DTSTART;VALUE=DATE:20251204
DTEND;VALUE=DATE:20251205
DTSTAMP:20260420T014200
CREATED:20251009T005600Z
LAST-MODIFIED:20251201T052953Z
UID:4941-1764806400-1764892799@www.blvdbakersfield.com
SUMMARY:Football Specials
DESCRIPTION:FOOTBALL GAME TIME SPECIALS: \n– Nachos & 16oz Beer $15 \n– Med Wings & Margarita $22 \n– Classic Burger & Fries W/ 16oz Beer $15 \n– Pick 2 Shareables From A Selected Menu For Only $20 \nUpgraded Drink Options Available \n*SPECIALS VALID DURING LIVE NFL FOOTBALL GAMES ONLY.
URL:https://www.blvdbakersfield.com/event/football-specials-5/
ATTACH;FMTTYPE=image/webp:https://www.blvdbakersfield.com/wp-content/uploads/2025/09/BLVD-Bakersfield-Football-Special-Food-2025.webp
END:VEVENT
BEGIN:VEVENT
DTSTART;VALUE=DATE:20251127
DTEND;VALUE=DATE:20251128
DTSTAMP:20260420T014200
CREATED:20251125T011150Z
LAST-MODIFIED:20251125T011251Z
UID:4981-1764201600-1764287999@www.blvdbakersfield.com
SUMMARY:HAPPY THANKSGIVING - CLOSED
DESCRIPTION:HOLIDAY HOURS:\nNov 23-26\n11am-10pm  \nClosed Thanksgiving \n11/28-29\n11am-midnight \n11/30\n11am-9pm
URL:https://www.blvdbakersfield.com/event/closed-happy-thanksgiving/
ATTACH;FMTTYPE=image/webp:https://www.blvdbakersfield.com/wp-content/uploads/2025/11/Thanksgiving-Hours.webp
END:VEVENT
BEGIN:VEVENT
DTSTART;VALUE=DATE:20250825
DTEND;VALUE=DATE:20250829
DTSTAMP:20260420T014200
CREATED:20250814T081318Z
LAST-MODIFIED:20250814T081318Z
UID:4888-1756080000-1756425599@www.blvdbakersfield.com
SUMMARY:Back to School Special
DESCRIPTION:Start the school year with some extra playtime!\nKids 12 & under get a $10 game card with a paid kids meal\nValid Monday – Thursday through Aug. 31.
URL:https://www.blvdbakersfield.com/event/back-to-school-special-3/
ATTACH;FMTTYPE=image/jpeg:https://www.blvdbakersfield.com/wp-content/uploads/2025/08/BLVD-Back-to-School-8-2025-2.jpg
END:VEVENT
BEGIN:VEVENT
DTSTART;VALUE=DATE:20250818
DTEND;VALUE=DATE:20250822
DTSTAMP:20260420T014200
CREATED:20250814T081229Z
LAST-MODIFIED:20250814T081229Z
UID:4886-1755475200-1755820799@www.blvdbakersfield.com
SUMMARY:Back to School Special
DESCRIPTION:Start the school year with some extra playtime!\nKids 12 & under get a $10 game card with a paid kids meal\nValid Monday – Thursday through Aug. 31.
URL:https://www.blvdbakersfield.com/event/back-to-school-special-2/
ATTACH;FMTTYPE=image/jpeg:https://www.blvdbakersfield.com/wp-content/uploads/2025/08/BLVD-Back-to-School-8-2025-2.jpg
END:VEVENT
BEGIN:VEVENT
DTSTART;VALUE=DATE:20250813
DTEND;VALUE=DATE:20250815
DTSTAMP:20260420T014200
CREATED:20250814T030700Z
LAST-MODIFIED:20250814T081141Z
UID:4880-1755043200-1755215999@www.blvdbakersfield.com
SUMMARY:Back to School Special
DESCRIPTION:Start the school year with some extra playtime!\nKids 12 & under get a $10 game card with a paid kids meal\nValid Monday – Thursday through Aug. 31.
URL:https://www.blvdbakersfield.com/event/back-to-school-special/
ATTACH;FMTTYPE=image/jpeg:https://www.blvdbakersfield.com/wp-content/uploads/2025/08/BLVD-Back-to-School-8-2025-2.jpg
END:VEVENT
BEGIN:VEVENT
DTSTART;VALUE=DATE:20250807
DTEND;VALUE=DATE:20250808
DTSTAMP:20260420T014200
CREATED:20250701T091643Z
LAST-MODIFIED:20250801T094028Z
UID:4819-1754524800-1754611199@www.blvdbakersfield.com
SUMMARY:Throwdown Thursday
DESCRIPTION:Throwdown Thursday\nBuy one game of bowling\, get one game of bowling free\nGood for 1 game of bowling for 2 people or 2 games for one person\n*Valid from 11am-4pm / must be used the same day / shoes not included
URL:https://www.blvdbakersfield.com/event/throwdown-thursday-15/
ATTACH;FMTTYPE=image/jpeg:https://www.blvdbakersfield.com/wp-content/uploads/2025/06/Throwdown-Thursday-Web-2.jpg
END:VEVENT
BEGIN:VEVENT
DTSTART;VALUE=DATE:20250806
DTEND;VALUE=DATE:20250807
DTSTAMP:20260420T014200
CREATED:20250701T091532Z
LAST-MODIFIED:20250801T094035Z
UID:4817-1754438400-1754524799@www.blvdbakersfield.com
SUMMARY:Winning Wednesday
DESCRIPTION:Winning Wednesday\nDouble Game Play\n-Get twice the arcade play for the same pay
URL:https://www.blvdbakersfield.com/event/winning-wednesday-15/
ATTACH;FMTTYPE=image/jpeg:https://www.blvdbakersfield.com/wp-content/uploads/2025/06/Winning-Wednesday-Web-4.jpg
END:VEVENT
BEGIN:VEVENT
DTSTART;VALUE=DATE:20250805
DTEND;VALUE=DATE:20250806
DTSTAMP:20260420T014200
CREATED:20250701T091421Z
LAST-MODIFIED:20250801T094042Z
UID:4815-1754352000-1754438399@www.blvdbakersfield.com
SUMMARY:Tasty Tuesday
DESCRIPTION:Tasty Tuesday\nHappy Hour All Day\n-$2 off shareable\n-1/2 off well cocktails and pint beers\n-$2 off dirty sodas\n*Dirty Soda discount not part of normal happy hour pricing
URL:https://www.blvdbakersfield.com/event/tasty-tuesday-15/
ATTACH;FMTTYPE=image/jpeg:https://www.blvdbakersfield.com/wp-content/uploads/2025/06/Tasty-Tuesday-Web-3.jpg
END:VEVENT
BEGIN:VEVENT
DTSTART;VALUE=DATE:20250804
DTEND;VALUE=DATE:20250805
DTSTAMP:20260420T014200
CREATED:20250602T105838Z
LAST-MODIFIED:20250801T094209Z
UID:4730-1754265600-1754351999@www.blvdbakersfield.com
SUMMARY:Memory Making Monday
DESCRIPTION:Memory Making Monday\nFamily Fun Pack\n-$20 Game Card\n-16″ One Topping Pizza\n-1 hour of bowling with shoes (4 people)\n*Must be purchased at bowling counter / Must show receipt to server when ordering pizza
URL:https://www.blvdbakersfield.com/event/memory-making-monday-5/
ATTACH;FMTTYPE=image/jpeg:https://www.blvdbakersfield.com/wp-content/uploads/2025/06/Website-Monday-5.jpg
END:VEVENT
BEGIN:VEVENT
DTSTART;VALUE=DATE:20250801
DTEND;VALUE=DATE:20250803
DTSTAMP:20260420T014200
CREATED:20250601T054453Z
LAST-MODIFIED:20250701T082437Z
UID:4676-1754006400-1754179199@www.blvdbakersfield.com
SUMMARY:Panic Hour
DESCRIPTION:EVERY FRIDAY AND SATURDAY 10PM – CLOSE \nHALF OFF BEER PINTS AND WELL COCKTAILS\n$2 OFF THE DRINK OF THE MONTH
URL:https://www.blvdbakersfield.com/event/panic-hour-6/
ATTACH;FMTTYPE=image/jpeg:https://www.blvdbakersfield.com/wp-content/uploads/2025/05/BLVD-Panic-Hour-2025-25.jpg
END:VEVENT
BEGIN:VEVENT
DTSTART;VALUE=DATE:20250724
DTEND;VALUE=DATE:20250725
DTSTAMP:20260420T014200
CREATED:20250602T120411Z
LAST-MODIFIED:20250701T091111Z
UID:4767-1753315200-1753401599@www.blvdbakersfield.com
SUMMARY:Throwdown Thursday
DESCRIPTION:Throwdown Thursday\nBuy one game of bowling\, get one game of bowling free\nGood for 1 game of bowling for 2 people or 2 games for one person\n*Valid from 11am-4pm / must be used the same day / shoes not included
URL:https://www.blvdbakersfield.com/event/throwdown-thursday-4/
ATTACH;FMTTYPE=image/jpeg:https://www.blvdbakersfield.com/wp-content/uploads/2025/06/Throwdown-Thursday-Web-2.jpg
END:VEVENT
BEGIN:VEVENT
DTSTART;VALUE=DATE:20250723
DTEND;VALUE=DATE:20250724
DTSTAMP:20260420T014200
CREATED:20250602T114811Z
LAST-MODIFIED:20250701T091107Z
UID:4755-1753228800-1753315199@www.blvdbakersfield.com
SUMMARY:Winning Wednesday
DESCRIPTION:Winning Wednesday\nDouble Game Play\n-Get twice the arcade play for the same pay
URL:https://www.blvdbakersfield.com/event/winning-wednesday-4/
ATTACH;FMTTYPE=image/jpeg:https://www.blvdbakersfield.com/wp-content/uploads/2025/06/Winning-Wednesday-Web-4.jpg
END:VEVENT
BEGIN:VEVENT
DTSTART;VALUE=DATE:20250722
DTEND;VALUE=DATE:20250723
DTSTAMP:20260420T014200
CREATED:20250602T112557Z
LAST-MODIFIED:20250701T091103Z
UID:4743-1753142400-1753228799@www.blvdbakersfield.com
SUMMARY:Tasty Tuesday
DESCRIPTION:Tasty Tuesday\nHappy Hour All Day\n-$2 off shareable\n-1/2 off well cocktails and pint beers\n-$2 off dirty sodas\n*Dirty Soda discount not part of normal happy hour pricing
URL:https://www.blvdbakersfield.com/event/tasty-tuesday-4/
ATTACH;FMTTYPE=image/jpeg:https://www.blvdbakersfield.com/wp-content/uploads/2025/06/Tasty-Tuesday-Web-3.jpg
END:VEVENT
BEGIN:VEVENT
DTSTART;VALUE=DATE:20250721
DTEND;VALUE=DATE:20250722
DTSTAMP:20260420T014200
CREATED:20250602T105714Z
LAST-MODIFIED:20250701T091058Z
UID:4727-1753056000-1753142399@www.blvdbakersfield.com
SUMMARY:Memory Making Monday
DESCRIPTION:Memory Making Monday\nFamily Fun Pack\n-$20 Game Card\n-16″ One Topping Pizza\n-1 hour of bowling with shoes (4 people)\n*Must be purchased at bowling counter / Must show receipt to server when ordering pizza
URL:https://www.blvdbakersfield.com/event/memory-making-monday-4/
ATTACH;FMTTYPE=image/jpeg:https://www.blvdbakersfield.com/wp-content/uploads/2025/06/Website-Monday-4.jpg
END:VEVENT
BEGIN:VEVENT
DTSTART;VALUE=DATE:20250717
DTEND;VALUE=DATE:20250718
DTSTAMP:20260420T014200
CREATED:20250602T120158Z
LAST-MODIFIED:20250701T083840Z
UID:4765-1752710400-1752796799@www.blvdbakersfield.com
SUMMARY:Throwdown Thursday
DESCRIPTION:Throwdown Thursday\nBuy one game of bowling\, get one game of bowling free\nGood for 1 game of bowling for 2 people or 2 games for one person\n*Valid from 11am-4pm / must be used the same day / shoes not included
URL:https://www.blvdbakersfield.com/event/throwdown-thursday-3/
ATTACH;FMTTYPE=image/jpeg:https://www.blvdbakersfield.com/wp-content/uploads/2025/06/Throwdown-Thursday-Web-3.jpg
END:VEVENT
BEGIN:VEVENT
DTSTART;VALUE=DATE:20250716
DTEND;VALUE=DATE:20250717
DTSTAMP:20260420T014200
CREATED:20250602T114743Z
LAST-MODIFIED:20250701T083836Z
UID:4753-1752624000-1752710399@www.blvdbakersfield.com
SUMMARY:Winning Wednesday
DESCRIPTION:Winning Wednesday\nDouble Game Play\n-Get twice the arcade play for the same pay
URL:https://www.blvdbakersfield.com/event/winning-wednesday-3/
ATTACH;FMTTYPE=image/jpeg:https://www.blvdbakersfield.com/wp-content/uploads/2025/06/Winning-Wednesday-Web-3.jpg
END:VEVENT
BEGIN:VEVENT
DTSTART;VALUE=DATE:20250715
DTEND;VALUE=DATE:20250716
DTSTAMP:20260420T014200
CREATED:20250602T112530Z
LAST-MODIFIED:20250701T083832Z
UID:4741-1752537600-1752623999@www.blvdbakersfield.com
SUMMARY:Tasty Tuesday
DESCRIPTION:Tasty Tuesday\nHappy Hour All Day\n-$2 off shareable\n-1/2 off well cocktails and pint beers\n-$2 off dirty sodas\n*Dirty Soda discount not part of normal happy hour pricing
URL:https://www.blvdbakersfield.com/event/tasty-tuesday-3/
ATTACH;FMTTYPE=image/jpeg:https://www.blvdbakersfield.com/wp-content/uploads/2025/06/Tasty-Tuesday-Web-4.jpg
END:VEVENT
BEGIN:VEVENT
DTSTART;VALUE=DATE:20250714
DTEND;VALUE=DATE:20250715
DTSTAMP:20260420T014200
CREATED:20250602T105207Z
LAST-MODIFIED:20250701T083828Z
UID:4724-1752451200-1752537599@www.blvdbakersfield.com
SUMMARY:Memory Making Monday
DESCRIPTION:Memory Making Monday\nFamily Fun Pack\n-$20 Game Card\n-16″ One Topping Pizza\n-1 hour of bowling with shoes (4 people)\n*Must be purchased at bowling counter / Must show receipt to server when ordering pizza
URL:https://www.blvdbakersfield.com/event/memory-making-monday-3/
ATTACH;FMTTYPE=image/jpeg:https://www.blvdbakersfield.com/wp-content/uploads/2025/06/Website-Monday-3.jpg
END:VEVENT
BEGIN:VEVENT
DTSTART;VALUE=DATE:20250710
DTEND;VALUE=DATE:20250711
DTSTAMP:20260420T014200
CREATED:20250602T120108Z
LAST-MODIFIED:20250701T083753Z
UID:4763-1752105600-1752191999@www.blvdbakersfield.com
SUMMARY:Throwdown Thursday
DESCRIPTION:Throwdown Thursday\nBuy one game of bowling\, get one game of bowling free\nGood for 1 game of bowling for 2 people or 2 games for one person\n*Valid from 11am-4pm / must be used the same day / shoes not included
URL:https://www.blvdbakersfield.com/event/throwdown-thursday-2/
ATTACH;FMTTYPE=image/jpeg:https://www.blvdbakersfield.com/wp-content/uploads/2025/06/Throwdown-Thursday-Web-4.jpg
END:VEVENT
BEGIN:VEVENT
DTSTART;VALUE=DATE:20250709
DTEND;VALUE=DATE:20250710
DTSTAMP:20260420T014200
CREATED:20250602T114658Z
LAST-MODIFIED:20250701T083748Z
UID:4748-1752019200-1752105599@www.blvdbakersfield.com
SUMMARY:Winning Wednesday
DESCRIPTION:Winning Wednesday\nDouble Game Play\n-Get twice the arcade play for the same pay
URL:https://www.blvdbakersfield.com/event/winning-wednesday-2/
ATTACH;FMTTYPE=image/jpeg:https://www.blvdbakersfield.com/wp-content/uploads/2025/06/Winning-Wednesday-Web-2.jpg
END:VEVENT
BEGIN:VEVENT
DTSTART;VALUE=DATE:20250708
DTEND;VALUE=DATE:20250709
DTSTAMP:20260420T014200
CREATED:20250602T112458Z
LAST-MODIFIED:20250701T083738Z
UID:4736-1751932800-1752019199@www.blvdbakersfield.com
SUMMARY:Tasty Tuesday
DESCRIPTION:Tasty Tuesday\nHappy Hour All Day\n-$2 off shareable\n-1/2 off well cocktails and pint beers\n-$2 off dirty sodas\n*Dirty Soda discount not part of normal happy hour pricing
URL:https://www.blvdbakersfield.com/event/tasty-tuesday-2/
ATTACH;FMTTYPE=image/jpeg:https://www.blvdbakersfield.com/wp-content/uploads/2025/06/Tasty-Tuesday-Web-2.jpg
END:VEVENT
BEGIN:VEVENT
DTSTART;VALUE=DATE:20250707
DTEND;VALUE=DATE:20250708
DTSTAMP:20260420T014200
CREATED:20250602T104809Z
LAST-MODIFIED:20250701T083733Z
UID:4721-1751846400-1751932799@www.blvdbakersfield.com
SUMMARY:Memory Making Monday
DESCRIPTION:Memory Making Monday\nFamily Fun Pack\n-$20 Game Card\n-16″ One Topping Pizza\n-1 hour of bowling with shoes (4 people)\n*Must be purchased at bowling counter / Must show receipt to server when ordering pizza
URL:https://www.blvdbakersfield.com/event/memory-making-monday-2/
ATTACH;FMTTYPE=image/jpeg:https://www.blvdbakersfield.com/wp-content/uploads/2025/06/Website-Monday-2.jpg
END:VEVENT
BEGIN:VEVENT
DTSTART;TZID=America/Los_Angeles:20250704T110000
DTEND;TZID=America/Los_Angeles:20250704T160000
DTSTAMP:20260420T014200
CREATED:20250703T230347Z
LAST-MODIFIED:20250704T081809Z
UID:4828-1751626800-1751644800@www.blvdbakersfield.com
SUMMARY:4th of July
DESCRIPTION:Happy 4th of July from all of us at The BLVD!\nWe’re open today from 11AM–4PM\, so stop by for some food\, fun\, and festive vibes before the fireworks.
URL:https://www.blvdbakersfield.com/event/4th-of-july/
ATTACH;FMTTYPE=image/jpeg:https://www.blvdbakersfield.com/wp-content/uploads/2025/07/7-4-July-min.jpg
END:VEVENT
BEGIN:VEVENT
DTSTART;VALUE=DATE:20250703
DTEND;VALUE=DATE:20250704
DTSTAMP:20260420T014200
CREATED:20250602T120013Z
LAST-MODIFIED:20250701T083713Z
UID:4757-1751500800-1751587199@www.blvdbakersfield.com
SUMMARY:Throwdown Thursday
DESCRIPTION:Throwdown Thursday\nBuy one game of bowling\, get one game of bowling free\nGood for 1 game of bowling for 2 people or 2 games for one person\n*Valid from 11am-4pm / must be used the same day / shoes not included
URL:https://www.blvdbakersfield.com/event/throwdown-thursday/
ATTACH;FMTTYPE=image/jpeg:https://www.blvdbakersfield.com/wp-content/uploads/2025/06/Throwdown-Thursday-Web.jpg
END:VEVENT
BEGIN:VEVENT
DTSTART;VALUE=DATE:20250702
DTEND;VALUE=DATE:20250703
DTSTAMP:20260420T014200
CREATED:20250602T113707Z
LAST-MODIFIED:20250701T083707Z
UID:4745-1751414400-1751500799@www.blvdbakersfield.com
SUMMARY:Winning Wednesday
DESCRIPTION:Winning Wednesday\nDouble Game Play\n-Get twice the arcade play for the same pay
URL:https://www.blvdbakersfield.com/event/winning-wednesday/
ATTACH;FMTTYPE=image/jpeg:https://www.blvdbakersfield.com/wp-content/uploads/2025/06/Winning-Wednesday-Web-copy.jpg
END:VEVENT
BEGIN:VEVENT
DTSTART;VALUE=DATE:20250701
DTEND;VALUE=DATE:20250702
DTSTAMP:20260420T014200
CREATED:20250602T110708Z
LAST-MODIFIED:20250701T083702Z
UID:4733-1751328000-1751414399@www.blvdbakersfield.com
SUMMARY:Tasty Tuesday
DESCRIPTION:Tasty Tuesday\nHappy Hour All Day\n-$2 off shareable\n-1/2 off well cocktails and pint beers\n-$2 off dirty sodas\n*Dirty Soda discount not part of normal happy hour pricing
URL:https://www.blvdbakersfield.com/event/tasty-tuesday/
ATTACH;FMTTYPE=image/jpeg:https://www.blvdbakersfield.com/wp-content/uploads/2025/06/Tasty-Tuesday-Web.jpg
END:VEVENT
BEGIN:VEVENT
DTSTART;VALUE=DATE:20250630
DTEND;VALUE=DATE:20250701
DTSTAMP:20260420T014200
CREATED:20250602T103745Z
LAST-MODIFIED:20250701T091240Z
UID:4715-1751241600-1751327999@www.blvdbakersfield.com
SUMMARY:Memory Making Monday
DESCRIPTION:Memory Making Monday\nFamily Fun Pack\n-$20 Game Card\n-16″ One Topping Pizza\n-1 hour of bowling with shoes (4 people)\n*Must be purchased at bowling counter / Must show receipt to server when ordering pizza
URL:https://www.blvdbakersfield.com/event/memory-making-monday/
ATTACH;FMTTYPE=image/jpeg:https://www.blvdbakersfield.com/wp-content/uploads/2025/06/Website-Monday.jpg
END:VEVENT
END:VCALENDAR