BEGIN:VCALENDAR
VERSION:2.0
PRODID:-//BLVD Bakersfield - ECPv6.15.20//NONSGML v1.0//EN
CALSCALE:GREGORIAN
METHOD:PUBLISH
X-WR-CALNAME:BLVD Bakersfield
X-ORIGINAL-URL:https://www.blvdbakersfield.com
X-WR-CALDESC:Events for BLVD Bakersfield
REFRESH-INTERVAL;VALUE=DURATION:PT1H
X-Robots-Tag:noindex
X-PUBLISHED-TTL:PT1H
BEGIN:VTIMEZONE
TZID:America/Los_Angeles
BEGIN:DAYLIGHT
TZOFFSETFROM:-0800
TZOFFSETTO:-0700
TZNAME:PDT
DTSTART:20240310T100000
END:DAYLIGHT
BEGIN:STANDARD
TZOFFSETFROM:-0700
TZOFFSETTO:-0800
TZNAME:PST
DTSTART:20241103T090000
END:STANDARD
BEGIN:DAYLIGHT
TZOFFSETFROM:-0800
TZOFFSETTO:-0700
TZNAME:PDT
DTSTART:20250309T100000
END:DAYLIGHT
BEGIN:STANDARD
TZOFFSETFROM:-0700
TZOFFSETTO:-0800
TZNAME:PST
DTSTART:20251102T090000
END:STANDARD
BEGIN:DAYLIGHT
TZOFFSETFROM:-0800
TZOFFSETTO:-0700
TZNAME:PDT
DTSTART:20260308T100000
END:DAYLIGHT
BEGIN:STANDARD
TZOFFSETFROM:-0700
TZOFFSETTO:-0800
TZNAME:PST
DTSTART:20261101T090000
END:STANDARD
END:VTIMEZONE
BEGIN:VEVENT
DTSTART;VALUE=DATE:20250407
DTEND;VALUE=DATE:20250408
DTSTAMP:20260420T083822
CREATED:20250401T100309Z
LAST-MODIFIED:20250401T103657Z
UID:4470-1743984000-1744070399@www.blvdbakersfield.com
SUMMARY:NATIONAL BEER DAY
DESCRIPTION:National Beer Day
URL:https://www.blvdbakersfield.com/event/national-beer-day/
ATTACH;FMTTYPE=image/jpeg:https://www.blvdbakersfield.com/wp-content/uploads/2025/04/BLVD-National-Beer-Day-2025.jpg
END:VEVENT
BEGIN:VEVENT
DTSTART;VALUE=DATE:20250407
DTEND;VALUE=DATE:20250411
DTSTAMP:20260420T083822
CREATED:20250329T085739Z
LAST-MODIFIED:20250404T083208Z
UID:4445-1743984000-1744329599@www.blvdbakersfield.com
SUMMARY:FAMILY BOWLING BUNDLE
DESCRIPTION:FAMILY BOWLING BUNDLE\nAVAILABLE MONDAY – THURSDAY!\nONLY $75 \n– 1 HOUR OF BOWLING WITH SHOES (6 PEOPLE)\n– 16″ ONE TOPPING PIZZA\n– $20 GAME CARD \n*EXCLUDES HOLIDAYS AND SCHOOL HOLIDAYS\n 1 LIMIT PER GUEST\n MUST MENTION PROMOTION PRIOR TO BOWLING PURCHASE
URL:https://www.blvdbakersfield.com/event/family-bowling-bundle-2/
ATTACH;FMTTYPE=image/jpeg:https://www.blvdbakersfield.com/wp-content/uploads/2025/04/BLVD-Family-Bowling-Bundle-M-Th-4-4-2025.jpg
END:VEVENT
BEGIN:VEVENT
DTSTART;VALUE=DATE:20250331
DTEND;VALUE=DATE:20250404
DTSTAMP:20260420T083822
CREATED:20250329T085509Z
LAST-MODIFIED:20250404T083339Z
UID:4442-1743379200-1743724799@www.blvdbakersfield.com
SUMMARY:FAMILY BOWLING BUNDLE
DESCRIPTION:FAMILY BOWLING BUNDLE\nAVAILABLE MONDAY – THURSDAY!\nONLY $75 \n– 1 HOUR OF BOWLING WITH SHOES (6 PEOPLE)\n– 16″ ONE TOPPING PIZZA\n– $20 GAME CARD \n*EXCLUDES HOLIDAYS AND SCHOOL HOLIDAYS\n 1 LIMIT PER GUEST\n MUST MENTION PROMOTION PRIOR TO BOWLING PURCHASE
URL:https://www.blvdbakersfield.com/event/family-bowling-bundle/
ATTACH;FMTTYPE=image/jpeg:https://www.blvdbakersfield.com/wp-content/uploads/2025/04/BLVD-Family-Bowling-Bundle-M-Th-4-4-2025.jpg
END:VEVENT
BEGIN:VEVENT
DTSTART;VALUE=DATE:20250324
DTEND;VALUE=DATE:20250328
DTSTAMP:20260420T083822
CREATED:20250224T095317Z
LAST-MODIFIED:20250224T100023Z
UID:4401-1742774400-1743119999@www.blvdbakersfield.com
SUMMARY:WEEKDAY WINS!
DESCRIPTION:WEEKDAY WINS!\nAsk your server about the Weekday Wins. \nMONDAY\n$10 ONE-TOPPING PIZZA \nTUESDAY\n$3 OFF SMASH BURGER \nWEDNESDAY\nBOGO WINGS (BUY ONE GET ONE 1/2 OFF EQUAL OR LESSER VALUE) \nTHURSDAY\nBUNDLE DEAL (16″ PIZZA\, $20 GAME CARD\, BUCKET OF BEER OR SELTZERS AND 2 SODAS) FOR $50
URL:https://www.blvdbakersfield.com/event/weekday-wins-3/
ATTACH;FMTTYPE=image/jpeg:https://www.blvdbakersfield.com/wp-content/uploads/2025/02/BLVD-Weekday-Wins.jpg
END:VEVENT
BEGIN:VEVENT
DTSTART;VALUE=DATE:20250318
DTEND;VALUE=DATE:20250408
DTSTAMP:20260420T083823
CREATED:20250301T102044Z
LAST-MODIFIED:20250401T100050Z
UID:4418-1742256000-1744070399@www.blvdbakersfield.com
SUMMARY:MARCH MADNESS
DESCRIPTION:MARCH MADNESS\nStarting March 18th \nBOGO 1/2 OFF APPETIZERS \nBUCKETS OF 5 BEERS/SELTZERS FOR $20 \nOnly during the game. Must mention ad.
URL:https://www.blvdbakersfield.com/event/march-madness/
ATTACH;FMTTYPE=image/jpeg:https://www.blvdbakersfield.com/wp-content/uploads/2025/03/The-BLVD-March_Madness-2025.jpg
END:VEVENT
BEGIN:VEVENT
DTSTART;VALUE=DATE:20250317
DTEND;VALUE=DATE:20250321
DTSTAMP:20260420T083823
CREATED:20250224T095414Z
LAST-MODIFIED:20250224T095414Z
UID:4403-1742169600-1742515199@www.blvdbakersfield.com
SUMMARY:WEEKDAY WINS!
DESCRIPTION:WEEKDAY WINS!\nAsk your server about the Weekday Wins. \nMONDAY\n$10 ONE-TOPPING PIZZA \nTUESDAY\n$3 OFF SMASH BURGER \nWEDNESDAY\nBOGO WINGS (BUY ONE GET ONE 1/2 OFF EQUAL OR LESSER VALUE) \nTHURSDAY\nBUNDLE DEAL (16″ PIZZA\, $20 GAME CARD\, BUCKET OF BEER OR SELTZERS AND 2 SODAS) FOR $50
URL:https://www.blvdbakersfield.com/event/weekday-wins-4/
ATTACH;FMTTYPE=image/jpeg:https://www.blvdbakersfield.com/wp-content/uploads/2025/02/BLVD-Weekday-Wins.jpg
END:VEVENT
BEGIN:VEVENT
DTSTART;VALUE=DATE:20250315
DTEND;VALUE=DATE:20250318
DTSTAMP:20260420T083823
CREATED:20250313T022352Z
LAST-MODIFIED:20250313T023343Z
UID:4428-1741996800-1742255999@www.blvdbakersfield.com
SUMMARY:ST. PATRICK'S FESTIVITIES
DESCRIPTION:Join us March 15th-17th for St. Patrick’s Day specials – $5 Jameson Shots\, Irish Mules\, Irish Car Bombs & more! Oh\, and did we mention Green Beer? And we will also have our Drink of the Month for only $10!
URL:https://www.blvdbakersfield.com/event/st-patricks-festivities/
ATTACH;FMTTYPE=image/jpeg:https://www.blvdbakersfield.com/wp-content/uploads/2025/03/BLVD-St-Patricks-Day-2025.jpg
END:VEVENT
BEGIN:VEVENT
DTSTART;VALUE=DATE:20250310
DTEND;VALUE=DATE:20250314
DTSTAMP:20260420T083823
CREATED:20250224T095238Z
LAST-MODIFIED:20250224T095238Z
UID:4399-1741564800-1741910399@www.blvdbakersfield.com
SUMMARY:WEEKDAY WINS!
DESCRIPTION:WEEKDAY WINS!\nAsk your server about the Weekday Wins. \nMONDAY\n$10 ONE-TOPPING PIZZA \nTUESDAY\n$3 OFF SMASH BURGER \nWEDNESDAY\nBOGO WINGS (BUY ONE GET ONE 1/2 OFF EQUAL OR LESSER VALUE) \nTHURSDAY\nBUNDLE DEAL (16″ PIZZA\, $20 GAME CARD\, BUCKET OF BEER OR SELTZERS AND 2 SODAS) FOR $50
URL:https://www.blvdbakersfield.com/event/weekday-wins-2/
ATTACH;FMTTYPE=image/jpeg:https://www.blvdbakersfield.com/wp-content/uploads/2025/02/BLVD-Weekday-Wins.jpg
END:VEVENT
BEGIN:VEVENT
DTSTART;VALUE=DATE:20250304
DTEND;VALUE=DATE:20250305
DTSTAMP:20260420T083823
CREATED:20250301T101305Z
LAST-MODIFIED:20250301T101305Z
UID:4419-1741046400-1741132799@www.blvdbakersfield.com
SUMMARY:Fat Tuesday
DESCRIPTION:FAT TUESDAY \n$6 DRINKS\non selected drinks only \n$20 BUCKETS\nBEER OR SELTZERS \nBUY ONE GET ONE HALF OFF\nBOWLING \nOne per customer. Must scan QR code for special.\n(see flyer for QR Code)
URL:https://www.blvdbakersfield.com/event/fat-tuesday/
ATTACH;FMTTYPE=image/jpeg:https://www.blvdbakersfield.com/wp-content/uploads/2025/03/BLVD-Fat-Tuesday-2025.jpg
END:VEVENT
BEGIN:VEVENT
DTSTART;VALUE=DATE:20250303
DTEND;VALUE=DATE:20250307
DTSTAMP:20260420T083823
CREATED:20250224T094912Z
LAST-MODIFIED:20250224T094912Z
UID:4397-1740960000-1741305599@www.blvdbakersfield.com
SUMMARY:WEEKDAY WINS!
DESCRIPTION:WEEKDAY WINS!\nAsk your server about the Weekday Wins. \nMONDAY\n$10 ONE-TOPPING PIZZA \nTUESDAY\n$3 OFF SMASH BURGER \nWEDNESDAY\nBOGO WINGS (BUY ONE GET ONE 1/2 OFF EQUAL OR LESSER VALUE) \nTHURSDAY\nBUNDLE DEAL (16″ PIZZA\, $20 GAME CARD\, BUCKET OF BEER OR SELTZERS AND 2 SODAS) FOR $50
URL:https://www.blvdbakersfield.com/event/weekday-wins/
ATTACH;FMTTYPE=image/jpeg:https://www.blvdbakersfield.com/wp-content/uploads/2025/02/BLVD-Weekday-Wins.jpg
END:VEVENT
END:VCALENDAR