BEGIN:VCALENDAR
VERSION:2.0
PRODID:-//BLVD Bakersfield - ECPv6.15.20//NONSGML v1.0//EN
CALSCALE:GREGORIAN
METHOD:PUBLISH
X-WR-CALNAME:BLVD Bakersfield
X-ORIGINAL-URL:https://www.blvdbakersfield.com
X-WR-CALDESC:Events for BLVD Bakersfield
REFRESH-INTERVAL;VALUE=DURATION:PT1H
X-Robots-Tag:noindex
X-PUBLISHED-TTL:PT1H
BEGIN:VTIMEZONE
TZID:America/Los_Angeles
BEGIN:DAYLIGHT
TZOFFSETFROM:-0800
TZOFFSETTO:-0700
TZNAME:PDT
DTSTART:20250309T100000
END:DAYLIGHT
BEGIN:STANDARD
TZOFFSETFROM:-0700
TZOFFSETTO:-0800
TZNAME:PST
DTSTART:20251102T090000
END:STANDARD
BEGIN:DAYLIGHT
TZOFFSETFROM:-0800
TZOFFSETTO:-0700
TZNAME:PDT
DTSTART:20260308T100000
END:DAYLIGHT
BEGIN:STANDARD
TZOFFSETFROM:-0700
TZOFFSETTO:-0800
TZNAME:PST
DTSTART:20261101T090000
END:STANDARD
BEGIN:DAYLIGHT
TZOFFSETFROM:-0800
TZOFFSETTO:-0700
TZNAME:PDT
DTSTART:20270314T100000
END:DAYLIGHT
BEGIN:STANDARD
TZOFFSETFROM:-0700
TZOFFSETTO:-0800
TZNAME:PST
DTSTART:20271107T090000
END:STANDARD
END:VTIMEZONE
BEGIN:VEVENT
DTSTART;VALUE=DATE:20260208
DTEND;VALUE=DATE:20260209
DTSTAMP:20260420T025653
CREATED:20260201T101547Z
LAST-MODIFIED:20260201T102321Z
UID:5030-1770508800-1770595199@www.blvdbakersfield.com
SUMMARY:Super Bowl Specials
DESCRIPTION:Super Bowl Specials\nDate: Feb 8th\nTime: Starting at 3PM \nFood Deals\nPick 2 for $20 or Pick 3 for $26 \nWild Fries \nBacon Jalapeño Wontons \nToasted Pretzel & Cheese Fondue \nSmall Wings (Bone-in or Boneless) \nMozzarella Sticks \nFried Onion Bloom \nHummus & Pita \nDrink Deals\nBucket of Beer or Seltzer (5): $20
URL:https://www.blvdbakersfield.com/event/big-game-specials-2026/
ATTACH;FMTTYPE=image/webp:https://www.blvdbakersfield.com/wp-content/uploads/2026/02/Big-Game-Specials-2-2026.webp
END:VEVENT
BEGIN:VEVENT
DTSTART;TZID=America/Los_Angeles:20260213T180000
DTEND;TZID=America/Los_Angeles:20260213T210000
DTSTAMP:20260420T025653
CREATED:20260123T080634Z
LAST-MODIFIED:20260123T184317Z
UID:5019-1771005600-1771016400@www.blvdbakersfield.com
SUMMARY:Galentine's Day!
DESCRIPTION:Galentine’s Day! \nGrab your gals and pals and join us at The BLVD! for Galentine’s Day  \nFebruary 13\, 2026\nRegistration starts at 5 pm\nEvent starts at 6:00 pm – 9:00 pm  \nFor $30\, enjoy:\n– Unlimited specialty cocktails & mocktails from our Galentine’s Day drink menu\n– A $10 game card\n– Reserved seating \nGal Pack (Party of 4) – $120\nIncludes:\n– Reserved seating\n– Unlimited specialty cocktails & mocktails\n– A $15 game card per person \nLimited seating available! \nGET TICKETS HERE \nTickets at the door: $40\nDoor tickets do NOT include reserved seating.
URL:https://www.blvdbakersfield.com/event/galentines-day/
ATTACH;FMTTYPE=image/webp:https://www.blvdbakersfield.com/wp-content/uploads/2026/01/BLVDGalentinesDay2026.webp
END:VEVENT
BEGIN:VEVENT
DTSTART;VALUE=DATE:20260216
DTEND;VALUE=DATE:20260221
DTSTAMP:20260420T025653
CREATED:20250601T054906Z
LAST-MODIFIED:20260215T044518Z
UID:4686-1771200000-1771631999@www.blvdbakersfield.com
SUMMARY:Lunch Specials
DESCRIPTION:JOIN US FOR LUNCH! \nMONDAY-FRIDAY\n11AM – 4PM \nLUNCH SPECIALS START AT $9.65 \nGUARANTEED TO BE OUT IN 30 MIN. \nASK ABOUT OUR LOYALTY CARD\nBUY 9 LUNCHES GET 1 FREE!
URL:https://www.blvdbakersfield.com/event/lunch-specials-6/
ATTACH;FMTTYPE=image/jpeg:https://www.blvdbakersfield.com/wp-content/uploads/2025/05/BLVD-JoinusforLunch-25.jpg
END:VEVENT
BEGIN:VEVENT
DTSTART;VALUE=DATE:20260216
DTEND;VALUE=DATE:20260221
DTSTAMP:20260420T025653
CREATED:20250601T055353Z
LAST-MODIFIED:20260215T044306Z
UID:4696-1771200000-1771631999@www.blvdbakersfield.com
SUMMARY:Happy Hour
DESCRIPTION:MONDAY – FRIDAY\n3PM – 6PM\nHALF OFF BEER PINTS AND WELL COCKTAILS\n$2 OFF ALL SHAREABLES
URL:https://www.blvdbakersfield.com/event/happy-hour-6/
ATTACH;FMTTYPE=image/jpeg:https://www.blvdbakersfield.com/wp-content/uploads/2025/05/Happy-Hour-22-25.jpg
END:VEVENT
END:VCALENDAR